BEGIN:VCALENDAR
VERSION:2.0
PRODID:-//Tukios.com/
BEGIN:VEVENT
UID:a55a4682-07ba-454f-90d7-0b3b999e5d4e@www.spauldingfuneralhome.com
DTSTAMP:20260419T132016Z
DTSTART:20251027T140000Z
DTEND:20251027T150000Z
SUMMARY:Mass
DESCRIPTION:
URL:https://www.spauldingfuneralhome.com/obituaries/arnold-hurst
LOCATION:Holy Family Parish - St. John Church 1405 1st Avenue  Middletown 
	OH 45044
GEO:39.5138135;-84.3991987
END:VEVENT
END:VCALENDAR