BEGIN:VCALENDAR
VERSION:2.0
PRODID:-//Tukios.com/
BEGIN:VEVENT
UID:7f467f89-cfc4-4d53-9c17-e69b4d02d009@www.spauldingfuneralhome.com
DTSTAMP:20260421T084122Z
DTSTART:20210730T210000Z
DTEND:20210730T230000Z
SUMMARY:Visitation
DESCRIPTION:
URL:https://www.spauldingfuneralhome.com/obituaries/janet-f-radabaugh
LOCATION:Wilson-Schramm-Spaulding Funeral Home 3805 Roosevelt Boulevard  
	Middletown OH 45044
GEO:39.5002447;-84.3639831
END:VEVENT
END:VCALENDAR