BEGIN:VCALENDAR
VERSION:2.0
PRODID:-//Tukios.com/
BEGIN:VEVENT
UID:882017e8-2ac9-471f-85e3-9d8c3a9f2fc2@www.spauldingfuneralhome.com
DTSTAMP:20260421T091401Z
DTSTART:20230328T140000Z
DTEND:20230328T150000Z
SUMMARY:Service
DESCRIPTION:
URL:https://www.spauldingfuneralhome.com/obituaries/ronald-hunter
LOCATION:Wilson-Schramm-Spaulding Funeral Home 3805 Roosevelt Boulevard  
	Middletown OH 45044
GEO:39.5002447;-84.3639831
END:VEVENT
END:VCALENDAR