BEGIN:VCALENDAR
VERSION:2.0
PRODID:-//Tukios.com/
BEGIN:VEVENT
UID:53d9a30a-163f-4204-83bc-e6470a7456cc@www.spauldingfuneralhome.com
DTSTAMP:20260421T090659Z
DTSTART:20211012T210000Z
DTEND:20211012T230000Z
SUMMARY:Visitation
DESCRIPTION:
URL:https://www.spauldingfuneralhome.com/obituaries/thomas-ty-coning
LOCATION:Wilson-Schramm-Spaulding Funeral Home 3805 Roosevelt Boulevard  
	Middletown OH 45044
GEO:39.5002447;-84.3639831
END:VEVENT
END:VCALENDAR